BEGIN:VCALENDAR
VERSION:2.0
PRODID:-//Chaldean Community Foundation - ECPv6.15.20//NONSGML v1.0//EN
CALSCALE:GREGORIAN
METHOD:PUBLISH
X-WR-CALNAME:Chaldean Community Foundation
X-ORIGINAL-URL:https://www.chaldeanfoundation.org
X-WR-CALDESC:Events for Chaldean Community Foundation
REFRESH-INTERVAL;VALUE=DURATION:PT1H
X-Robots-Tag:noindex
X-PUBLISHED-TTL:PT1H
BEGIN:VTIMEZONE
TZID:America/Detroit
BEGIN:DAYLIGHT
TZOFFSETFROM:-0500
TZOFFSETTO:-0400
TZNAME:EDT
DTSTART:20250309T070000
END:DAYLIGHT
BEGIN:STANDARD
TZOFFSETFROM:-0400
TZOFFSETTO:-0500
TZNAME:EST
DTSTART:20251102T060000
END:STANDARD
BEGIN:DAYLIGHT
TZOFFSETFROM:-0500
TZOFFSETTO:-0400
TZNAME:EDT
DTSTART:20260308T070000
END:DAYLIGHT
BEGIN:STANDARD
TZOFFSETFROM:-0400
TZOFFSETTO:-0500
TZNAME:EST
DTSTART:20261101T060000
END:STANDARD
BEGIN:DAYLIGHT
TZOFFSETFROM:-0500
TZOFFSETTO:-0400
TZNAME:EDT
DTSTART:20270314T070000
END:DAYLIGHT
BEGIN:STANDARD
TZOFFSETFROM:-0400
TZOFFSETTO:-0500
TZNAME:EST
DTSTART:20271107T060000
END:STANDARD
END:VTIMEZONE
BEGIN:VEVENT
DTSTART;TZID=America/Detroit:20260421T093000
DTEND;TZID=America/Detroit:20260421T113000
DTSTAMP:20260421T030925
CREATED:20230925T234112Z
LAST-MODIFIED:20240130T201157Z
UID:10008042-1776763800-1776771000@www.chaldeanfoundation.org
SUMMARY:ESL 3 (Intermediate)
DESCRIPTION:
URL:https://www.chaldeanfoundation.org/event/esl-3-intermediate/2026-04-21/
CATEGORIES:Upcoming Classes
END:VEVENT
BEGIN:VEVENT
DTSTART;TZID=America/Detroit:20260421T173000
DTEND;TZID=America/Detroit:20260421T200000
DTSTAMP:20260421T030925
CREATED:20260310T155133Z
LAST-MODIFIED:20260407T142036Z
UID:10009735-1776792600-1776801600@www.chaldeanfoundation.org
SUMMARY:Cooking Chaldean - Shalgham (cooked turnips in tomato stew)
DESCRIPTION:Learn how to make Shalgham (cooked turnips in tomato stew) with Lillian Nadhir. \nRegistration Link
URL:https://www.chaldeanfoundation.org/event/cooking-chaldean-shalgham/
CATEGORIES:CCF West Upcoming Events
ATTACH;FMTTYPE=application/pdf:https://www.chaldeanfoundation.org/wp-content/uploads/2026/03/CCFW_CookingChaldean_Shalgham_2026-1.pdf
END:VEVENT
END:VCALENDAR