BEGIN:VCALENDAR
VERSION:2.0
PRODID:-//Chaldean Community Foundation - ECPv6.15.20//NONSGML v1.0//EN
CALSCALE:GREGORIAN
METHOD:PUBLISH
X-WR-CALNAME:Chaldean Community Foundation
X-ORIGINAL-URL:https://www.chaldeanfoundation.org
X-WR-CALDESC:Events for Chaldean Community Foundation
REFRESH-INTERVAL;VALUE=DURATION:PT1H
X-Robots-Tag:noindex
X-PUBLISHED-TTL:PT1H
BEGIN:VTIMEZONE
TZID:America/Detroit
BEGIN:DAYLIGHT
TZOFFSETFROM:-0500
TZOFFSETTO:-0400
TZNAME:EDT
DTSTART:20250309T070000
END:DAYLIGHT
BEGIN:STANDARD
TZOFFSETFROM:-0400
TZOFFSETTO:-0500
TZNAME:EST
DTSTART:20251102T060000
END:STANDARD
BEGIN:DAYLIGHT
TZOFFSETFROM:-0500
TZOFFSETTO:-0400
TZNAME:EDT
DTSTART:20260308T070000
END:DAYLIGHT
BEGIN:STANDARD
TZOFFSETFROM:-0400
TZOFFSETTO:-0500
TZNAME:EST
DTSTART:20261101T060000
END:STANDARD
BEGIN:DAYLIGHT
TZOFFSETFROM:-0500
TZOFFSETTO:-0400
TZNAME:EDT
DTSTART:20270314T070000
END:DAYLIGHT
BEGIN:STANDARD
TZOFFSETFROM:-0400
TZOFFSETTO:-0500
TZNAME:EST
DTSTART:20271107T060000
END:STANDARD
END:VTIMEZONE
BEGIN:VEVENT
DTSTART;TZID=America/Detroit:20260601T173000
DTEND;TZID=America/Detroit:20260601T193000
DTSTAMP:20260423T053239
CREATED:20260422T203835Z
LAST-MODIFIED:20260422T203835Z
UID:10009773-1780335000-1780342200@www.chaldeanfoundation.org
SUMMARY:Chaldean Language Classes for Teens
DESCRIPTION:Class Cost: $150 \nRegistration Link
URL:https://www.chaldeanfoundation.org/event/chaldean-language-classes-for-teens/2026-06-01/
LOCATION:CCF West\, 2075 Walnut Lake Rd\, West Bloomfield\, 48323\, United States
CATEGORIES:CCF West Upcoming Events
ATTACH;FMTTYPE=image/jpeg:https://www.chaldeanfoundation.org/wp-content/uploads/2026/04/Sureth101_Teens_04202026_jpg-scaled.jpg
END:VEVENT
BEGIN:VEVENT
DTSTART;TZID=America/Detroit:20260608T173000
DTEND;TZID=America/Detroit:20260608T193000
DTSTAMP:20260423T053239
CREATED:20260422T203835Z
LAST-MODIFIED:20260422T203835Z
UID:10009774-1780939800-1780947000@www.chaldeanfoundation.org
SUMMARY:Chaldean Language Classes for Teens
DESCRIPTION:Class Cost: $150 \nRegistration Link
URL:https://www.chaldeanfoundation.org/event/chaldean-language-classes-for-teens/2026-06-08/
LOCATION:CCF West\, 2075 Walnut Lake Rd\, West Bloomfield\, 48323\, United States
CATEGORIES:CCF West Upcoming Events
ATTACH;FMTTYPE=image/jpeg:https://www.chaldeanfoundation.org/wp-content/uploads/2026/04/Sureth101_Teens_04202026_jpg-scaled.jpg
END:VEVENT
BEGIN:VEVENT
DTSTART;TZID=America/Detroit:20260615T173000
DTEND;TZID=America/Detroit:20260615T193000
DTSTAMP:20260423T053239
CREATED:20260422T203835Z
LAST-MODIFIED:20260422T203835Z
UID:10009775-1781544600-1781551800@www.chaldeanfoundation.org
SUMMARY:Chaldean Language Classes for Teens
DESCRIPTION:Class Cost: $150 \nRegistration Link
URL:https://www.chaldeanfoundation.org/event/chaldean-language-classes-for-teens/2026-06-15/
LOCATION:CCF West\, 2075 Walnut Lake Rd\, West Bloomfield\, 48323\, United States
CATEGORIES:CCF West Upcoming Events
ATTACH;FMTTYPE=image/jpeg:https://www.chaldeanfoundation.org/wp-content/uploads/2026/04/Sureth101_Teens_04202026_jpg-scaled.jpg
END:VEVENT
BEGIN:VEVENT
DTSTART;TZID=America/Detroit:20260622T173000
DTEND;TZID=America/Detroit:20260622T193000
DTSTAMP:20260423T053239
CREATED:20260422T203835Z
LAST-MODIFIED:20260422T203835Z
UID:10009776-1782149400-1782156600@www.chaldeanfoundation.org
SUMMARY:Chaldean Language Classes for Teens
DESCRIPTION:Class Cost: $150 \nRegistration Link
URL:https://www.chaldeanfoundation.org/event/chaldean-language-classes-for-teens/2026-06-22/
LOCATION:CCF West\, 2075 Walnut Lake Rd\, West Bloomfield\, 48323\, United States
CATEGORIES:CCF West Upcoming Events
ATTACH;FMTTYPE=image/jpeg:https://www.chaldeanfoundation.org/wp-content/uploads/2026/04/Sureth101_Teens_04202026_jpg-scaled.jpg
END:VEVENT
BEGIN:VEVENT
DTSTART;TZID=America/Detroit:20260629T173000
DTEND;TZID=America/Detroit:20260629T193000
DTSTAMP:20260423T053239
CREATED:20260422T203835Z
LAST-MODIFIED:20260422T203835Z
UID:10009777-1782754200-1782761400@www.chaldeanfoundation.org
SUMMARY:Chaldean Language Classes for Teens
DESCRIPTION:Class Cost: $150 \nRegistration Link
URL:https://www.chaldeanfoundation.org/event/chaldean-language-classes-for-teens/2026-06-29/
LOCATION:CCF West\, 2075 Walnut Lake Rd\, West Bloomfield\, 48323\, United States
CATEGORIES:CCF West Upcoming Events
ATTACH;FMTTYPE=image/jpeg:https://www.chaldeanfoundation.org/wp-content/uploads/2026/04/Sureth101_Teens_04202026_jpg-scaled.jpg
END:VEVENT
BEGIN:VEVENT
DTSTART;TZID=America/Detroit:20260706T173000
DTEND;TZID=America/Detroit:20260706T193000
DTSTAMP:20260423T053239
CREATED:20260422T203835Z
LAST-MODIFIED:20260422T203835Z
UID:10009778-1783359000-1783366200@www.chaldeanfoundation.org
SUMMARY:Chaldean Language Classes for Teens
DESCRIPTION:Class Cost: $150 \nRegistration Link
URL:https://www.chaldeanfoundation.org/event/chaldean-language-classes-for-teens/2026-07-06/
LOCATION:CCF West\, 2075 Walnut Lake Rd\, West Bloomfield\, 48323\, United States
CATEGORIES:CCF West Upcoming Events
ATTACH;FMTTYPE=image/jpeg:https://www.chaldeanfoundation.org/wp-content/uploads/2026/04/Sureth101_Teens_04202026_jpg-scaled.jpg
END:VEVENT
BEGIN:VEVENT
DTSTART;TZID=America/Detroit:20260713T173000
DTEND;TZID=America/Detroit:20260713T193000
DTSTAMP:20260423T053239
CREATED:20260422T203835Z
LAST-MODIFIED:20260422T203835Z
UID:10009779-1783963800-1783971000@www.chaldeanfoundation.org
SUMMARY:Chaldean Language Classes for Teens
DESCRIPTION:Class Cost: $150 \nRegistration Link
URL:https://www.chaldeanfoundation.org/event/chaldean-language-classes-for-teens/2026-07-13/
LOCATION:CCF West\, 2075 Walnut Lake Rd\, West Bloomfield\, 48323\, United States
CATEGORIES:CCF West Upcoming Events
ATTACH;FMTTYPE=image/jpeg:https://www.chaldeanfoundation.org/wp-content/uploads/2026/04/Sureth101_Teens_04202026_jpg-scaled.jpg
END:VEVENT
BEGIN:VEVENT
DTSTART;TZID=America/Detroit:20260720T173000
DTEND;TZID=America/Detroit:20260720T193000
DTSTAMP:20260423T053239
CREATED:20260422T203835Z
LAST-MODIFIED:20260422T203835Z
UID:10009780-1784568600-1784575800@www.chaldeanfoundation.org
SUMMARY:Chaldean Language Classes for Teens
DESCRIPTION:Class Cost: $150 \nRegistration Link
URL:https://www.chaldeanfoundation.org/event/chaldean-language-classes-for-teens/2026-07-20/
LOCATION:CCF West\, 2075 Walnut Lake Rd\, West Bloomfield\, 48323\, United States
CATEGORIES:CCF West Upcoming Events
ATTACH;FMTTYPE=image/jpeg:https://www.chaldeanfoundation.org/wp-content/uploads/2026/04/Sureth101_Teens_04202026_jpg-scaled.jpg
END:VEVENT
BEGIN:VEVENT
DTSTART;TZID=America/Detroit:20260727T173000
DTEND;TZID=America/Detroit:20260727T193000
DTSTAMP:20260423T053239
CREATED:20260422T203835Z
LAST-MODIFIED:20260422T203835Z
UID:10009781-1785173400-1785180600@www.chaldeanfoundation.org
SUMMARY:Chaldean Language Classes for Teens
DESCRIPTION:Class Cost: $150 \nRegistration Link
URL:https://www.chaldeanfoundation.org/event/chaldean-language-classes-for-teens/2026-07-27/
LOCATION:CCF West\, 2075 Walnut Lake Rd\, West Bloomfield\, 48323\, United States
CATEGORIES:CCF West Upcoming Events
ATTACH;FMTTYPE=image/jpeg:https://www.chaldeanfoundation.org/wp-content/uploads/2026/04/Sureth101_Teens_04202026_jpg-scaled.jpg
END:VEVENT
BEGIN:VEVENT
DTSTART;TZID=America/Detroit:20260803T173000
DTEND;TZID=America/Detroit:20260803T193000
DTSTAMP:20260423T053239
CREATED:20260422T203835Z
LAST-MODIFIED:20260422T203835Z
UID:10009782-1785778200-1785785400@www.chaldeanfoundation.org
SUMMARY:Chaldean Language Classes for Teens
DESCRIPTION:Class Cost: $150 \nRegistration Link
URL:https://www.chaldeanfoundation.org/event/chaldean-language-classes-for-teens/2026-08-03/
LOCATION:CCF West\, 2075 Walnut Lake Rd\, West Bloomfield\, 48323\, United States
CATEGORIES:CCF West Upcoming Events
ATTACH;FMTTYPE=image/jpeg:https://www.chaldeanfoundation.org/wp-content/uploads/2026/04/Sureth101_Teens_04202026_jpg-scaled.jpg
END:VEVENT
BEGIN:VEVENT
DTSTART;TZID=America/Detroit:20260810T173000
DTEND;TZID=America/Detroit:20260810T193000
DTSTAMP:20260423T053239
CREATED:20260422T203835Z
LAST-MODIFIED:20260422T203835Z
UID:10009783-1786383000-1786390200@www.chaldeanfoundation.org
SUMMARY:Chaldean Language Classes for Teens
DESCRIPTION:Class Cost: $150 \nRegistration Link
URL:https://www.chaldeanfoundation.org/event/chaldean-language-classes-for-teens/2026-08-10/
LOCATION:CCF West\, 2075 Walnut Lake Rd\, West Bloomfield\, 48323\, United States
CATEGORIES:CCF West Upcoming Events
ATTACH;FMTTYPE=image/jpeg:https://www.chaldeanfoundation.org/wp-content/uploads/2026/04/Sureth101_Teens_04202026_jpg-scaled.jpg
END:VEVENT
BEGIN:VEVENT
DTSTART;TZID=America/Detroit:20260817T173000
DTEND;TZID=America/Detroit:20260817T193000
DTSTAMP:20260423T053239
CREATED:20260422T203835Z
LAST-MODIFIED:20260422T203835Z
UID:10009784-1786987800-1786995000@www.chaldeanfoundation.org
SUMMARY:Chaldean Language Classes for Teens
DESCRIPTION:Class Cost: $150 \nRegistration Link
URL:https://www.chaldeanfoundation.org/event/chaldean-language-classes-for-teens/2026-08-17/
LOCATION:CCF West\, 2075 Walnut Lake Rd\, West Bloomfield\, 48323\, United States
CATEGORIES:CCF West Upcoming Events
ATTACH;FMTTYPE=image/jpeg:https://www.chaldeanfoundation.org/wp-content/uploads/2026/04/Sureth101_Teens_04202026_jpg-scaled.jpg
END:VEVENT
END:VCALENDAR