BEGIN:VCALENDAR
VERSION:2.0
PRODID:-//Chaldean Community Foundation - ECPv6.15.20//NONSGML v1.0//EN
CALSCALE:GREGORIAN
METHOD:PUBLISH
X-WR-CALNAME:Chaldean Community Foundation
X-ORIGINAL-URL:https://www.chaldeanfoundation.org
X-WR-CALDESC:Events for Chaldean Community Foundation
REFRESH-INTERVAL;VALUE=DURATION:PT1H
X-Robots-Tag:noindex
X-PUBLISHED-TTL:PT1H
BEGIN:VTIMEZONE
TZID:America/Detroit
BEGIN:DAYLIGHT
TZOFFSETFROM:-0500
TZOFFSETTO:-0400
TZNAME:EDT
DTSTART:20250309T070000
END:DAYLIGHT
BEGIN:STANDARD
TZOFFSETFROM:-0400
TZOFFSETTO:-0500
TZNAME:EST
DTSTART:20251102T060000
END:STANDARD
BEGIN:DAYLIGHT
TZOFFSETFROM:-0500
TZOFFSETTO:-0400
TZNAME:EDT
DTSTART:20260308T070000
END:DAYLIGHT
BEGIN:STANDARD
TZOFFSETFROM:-0400
TZOFFSETTO:-0500
TZNAME:EST
DTSTART:20261101T060000
END:STANDARD
BEGIN:DAYLIGHT
TZOFFSETFROM:-0500
TZOFFSETTO:-0400
TZNAME:EDT
DTSTART:20270314T070000
END:DAYLIGHT
BEGIN:STANDARD
TZOFFSETFROM:-0400
TZOFFSETTO:-0500
TZNAME:EST
DTSTART:20271107T060000
END:STANDARD
END:VTIMEZONE
BEGIN:VEVENT
DTSTART;TZID=America/Detroit:20260601T180000
DTEND;TZID=America/Detroit:20260601T200000
DTSTAMP:20260422T234629
CREATED:20260422T204259Z
LAST-MODIFIED:20260422T204259Z
UID:10009797-1780336800-1780344000@www.chaldeanfoundation.org
SUMMARY:Chaldean Language Classes for Adults
DESCRIPTION:Class Cost: $150 \nRegistration Link
URL:https://www.chaldeanfoundation.org/event/chaldean-language-classes-for-adults-2/2026-06-01/
LOCATION:CCF West\, 2075 Walnut Lake Rd\, West Bloomfield\, 48323\, United States
CATEGORIES:CCF West Upcoming Events
ATTACH;FMTTYPE=application/pdf:https://www.chaldeanfoundation.org/wp-content/uploads/2026/04/Adult_SurethClass252_CCFWest_AllSize_04202026_CNSize.pdf
END:VEVENT
BEGIN:VEVENT
DTSTART;TZID=America/Detroit:20260608T180000
DTEND;TZID=America/Detroit:20260608T200000
DTSTAMP:20260422T234629
CREATED:20260422T204259Z
LAST-MODIFIED:20260422T204259Z
UID:10009798-1780941600-1780948800@www.chaldeanfoundation.org
SUMMARY:Chaldean Language Classes for Adults
DESCRIPTION:Class Cost: $150 \nRegistration Link
URL:https://www.chaldeanfoundation.org/event/chaldean-language-classes-for-adults-2/2026-06-08/
LOCATION:CCF West\, 2075 Walnut Lake Rd\, West Bloomfield\, 48323\, United States
CATEGORIES:CCF West Upcoming Events
ATTACH;FMTTYPE=application/pdf:https://www.chaldeanfoundation.org/wp-content/uploads/2026/04/Adult_SurethClass252_CCFWest_AllSize_04202026_CNSize.pdf
END:VEVENT
BEGIN:VEVENT
DTSTART;TZID=America/Detroit:20260615T180000
DTEND;TZID=America/Detroit:20260615T200000
DTSTAMP:20260422T234629
CREATED:20260422T204259Z
LAST-MODIFIED:20260422T204259Z
UID:10009799-1781546400-1781553600@www.chaldeanfoundation.org
SUMMARY:Chaldean Language Classes for Adults
DESCRIPTION:Class Cost: $150 \nRegistration Link
URL:https://www.chaldeanfoundation.org/event/chaldean-language-classes-for-adults-2/2026-06-15/
LOCATION:CCF West\, 2075 Walnut Lake Rd\, West Bloomfield\, 48323\, United States
CATEGORIES:CCF West Upcoming Events
ATTACH;FMTTYPE=application/pdf:https://www.chaldeanfoundation.org/wp-content/uploads/2026/04/Adult_SurethClass252_CCFWest_AllSize_04202026_CNSize.pdf
END:VEVENT
BEGIN:VEVENT
DTSTART;TZID=America/Detroit:20260622T180000
DTEND;TZID=America/Detroit:20260622T200000
DTSTAMP:20260422T234629
CREATED:20260422T204259Z
LAST-MODIFIED:20260422T204259Z
UID:10009800-1782151200-1782158400@www.chaldeanfoundation.org
SUMMARY:Chaldean Language Classes for Adults
DESCRIPTION:Class Cost: $150 \nRegistration Link
URL:https://www.chaldeanfoundation.org/event/chaldean-language-classes-for-adults-2/2026-06-22/
LOCATION:CCF West\, 2075 Walnut Lake Rd\, West Bloomfield\, 48323\, United States
CATEGORIES:CCF West Upcoming Events
ATTACH;FMTTYPE=application/pdf:https://www.chaldeanfoundation.org/wp-content/uploads/2026/04/Adult_SurethClass252_CCFWest_AllSize_04202026_CNSize.pdf
END:VEVENT
BEGIN:VEVENT
DTSTART;TZID=America/Detroit:20260629T180000
DTEND;TZID=America/Detroit:20260629T200000
DTSTAMP:20260422T234629
CREATED:20260422T204259Z
LAST-MODIFIED:20260422T204259Z
UID:10009801-1782756000-1782763200@www.chaldeanfoundation.org
SUMMARY:Chaldean Language Classes for Adults
DESCRIPTION:Class Cost: $150 \nRegistration Link
URL:https://www.chaldeanfoundation.org/event/chaldean-language-classes-for-adults-2/2026-06-29/
LOCATION:CCF West\, 2075 Walnut Lake Rd\, West Bloomfield\, 48323\, United States
CATEGORIES:CCF West Upcoming Events
ATTACH;FMTTYPE=application/pdf:https://www.chaldeanfoundation.org/wp-content/uploads/2026/04/Adult_SurethClass252_CCFWest_AllSize_04202026_CNSize.pdf
END:VEVENT
BEGIN:VEVENT
DTSTART;TZID=America/Detroit:20260706T180000
DTEND;TZID=America/Detroit:20260706T200000
DTSTAMP:20260422T234629
CREATED:20260422T204259Z
LAST-MODIFIED:20260422T204259Z
UID:10009802-1783360800-1783368000@www.chaldeanfoundation.org
SUMMARY:Chaldean Language Classes for Adults
DESCRIPTION:Class Cost: $150 \nRegistration Link
URL:https://www.chaldeanfoundation.org/event/chaldean-language-classes-for-adults-2/2026-07-06/
LOCATION:CCF West\, 2075 Walnut Lake Rd\, West Bloomfield\, 48323\, United States
CATEGORIES:CCF West Upcoming Events
ATTACH;FMTTYPE=application/pdf:https://www.chaldeanfoundation.org/wp-content/uploads/2026/04/Adult_SurethClass252_CCFWest_AllSize_04202026_CNSize.pdf
END:VEVENT
BEGIN:VEVENT
DTSTART;TZID=America/Detroit:20260713T180000
DTEND;TZID=America/Detroit:20260713T200000
DTSTAMP:20260422T234629
CREATED:20260422T204259Z
LAST-MODIFIED:20260422T204259Z
UID:10009803-1783965600-1783972800@www.chaldeanfoundation.org
SUMMARY:Chaldean Language Classes for Adults
DESCRIPTION:Class Cost: $150 \nRegistration Link
URL:https://www.chaldeanfoundation.org/event/chaldean-language-classes-for-adults-2/2026-07-13/
LOCATION:CCF West\, 2075 Walnut Lake Rd\, West Bloomfield\, 48323\, United States
CATEGORIES:CCF West Upcoming Events
ATTACH;FMTTYPE=application/pdf:https://www.chaldeanfoundation.org/wp-content/uploads/2026/04/Adult_SurethClass252_CCFWest_AllSize_04202026_CNSize.pdf
END:VEVENT
BEGIN:VEVENT
DTSTART;TZID=America/Detroit:20260720T180000
DTEND;TZID=America/Detroit:20260720T200000
DTSTAMP:20260422T234629
CREATED:20260422T204259Z
LAST-MODIFIED:20260422T204259Z
UID:10009804-1784570400-1784577600@www.chaldeanfoundation.org
SUMMARY:Chaldean Language Classes for Adults
DESCRIPTION:Class Cost: $150 \nRegistration Link
URL:https://www.chaldeanfoundation.org/event/chaldean-language-classes-for-adults-2/2026-07-20/
LOCATION:CCF West\, 2075 Walnut Lake Rd\, West Bloomfield\, 48323\, United States
CATEGORIES:CCF West Upcoming Events
ATTACH;FMTTYPE=application/pdf:https://www.chaldeanfoundation.org/wp-content/uploads/2026/04/Adult_SurethClass252_CCFWest_AllSize_04202026_CNSize.pdf
END:VEVENT
BEGIN:VEVENT
DTSTART;TZID=America/Detroit:20260727T180000
DTEND;TZID=America/Detroit:20260727T200000
DTSTAMP:20260422T234629
CREATED:20260422T204259Z
LAST-MODIFIED:20260422T204259Z
UID:10009805-1785175200-1785182400@www.chaldeanfoundation.org
SUMMARY:Chaldean Language Classes for Adults
DESCRIPTION:Class Cost: $150 \nRegistration Link
URL:https://www.chaldeanfoundation.org/event/chaldean-language-classes-for-adults-2/2026-07-27/
LOCATION:CCF West\, 2075 Walnut Lake Rd\, West Bloomfield\, 48323\, United States
CATEGORIES:CCF West Upcoming Events
ATTACH;FMTTYPE=application/pdf:https://www.chaldeanfoundation.org/wp-content/uploads/2026/04/Adult_SurethClass252_CCFWest_AllSize_04202026_CNSize.pdf
END:VEVENT
BEGIN:VEVENT
DTSTART;TZID=America/Detroit:20260803T180000
DTEND;TZID=America/Detroit:20260803T200000
DTSTAMP:20260422T234629
CREATED:20260422T204259Z
LAST-MODIFIED:20260422T204259Z
UID:10009806-1785780000-1785787200@www.chaldeanfoundation.org
SUMMARY:Chaldean Language Classes for Adults
DESCRIPTION:Class Cost: $150 \nRegistration Link
URL:https://www.chaldeanfoundation.org/event/chaldean-language-classes-for-adults-2/2026-08-03/
LOCATION:CCF West\, 2075 Walnut Lake Rd\, West Bloomfield\, 48323\, United States
CATEGORIES:CCF West Upcoming Events
ATTACH;FMTTYPE=application/pdf:https://www.chaldeanfoundation.org/wp-content/uploads/2026/04/Adult_SurethClass252_CCFWest_AllSize_04202026_CNSize.pdf
END:VEVENT
BEGIN:VEVENT
DTSTART;TZID=America/Detroit:20260810T180000
DTEND;TZID=America/Detroit:20260810T200000
DTSTAMP:20260422T234629
CREATED:20260422T204259Z
LAST-MODIFIED:20260422T204259Z
UID:10009807-1786384800-1786392000@www.chaldeanfoundation.org
SUMMARY:Chaldean Language Classes for Adults
DESCRIPTION:Class Cost: $150 \nRegistration Link
URL:https://www.chaldeanfoundation.org/event/chaldean-language-classes-for-adults-2/2026-08-10/
LOCATION:CCF West\, 2075 Walnut Lake Rd\, West Bloomfield\, 48323\, United States
CATEGORIES:CCF West Upcoming Events
ATTACH;FMTTYPE=application/pdf:https://www.chaldeanfoundation.org/wp-content/uploads/2026/04/Adult_SurethClass252_CCFWest_AllSize_04202026_CNSize.pdf
END:VEVENT
BEGIN:VEVENT
DTSTART;TZID=America/Detroit:20260817T180000
DTEND;TZID=America/Detroit:20260817T200000
DTSTAMP:20260422T234629
CREATED:20260422T204259Z
LAST-MODIFIED:20260422T204259Z
UID:10009808-1786989600-1786996800@www.chaldeanfoundation.org
SUMMARY:Chaldean Language Classes for Adults
DESCRIPTION:Class Cost: $150 \nRegistration Link
URL:https://www.chaldeanfoundation.org/event/chaldean-language-classes-for-adults-2/2026-08-17/
LOCATION:CCF West\, 2075 Walnut Lake Rd\, West Bloomfield\, 48323\, United States
CATEGORIES:CCF West Upcoming Events
ATTACH;FMTTYPE=application/pdf:https://www.chaldeanfoundation.org/wp-content/uploads/2026/04/Adult_SurethClass252_CCFWest_AllSize_04202026_CNSize.pdf
END:VEVENT
END:VCALENDAR